BEGIN:VCALENDAR
VERSION:2.0
PRODID:-//AAU - ECPv6.15.16//NONSGML v1.0//EN
CALSCALE:GREGORIAN
METHOD:PUBLISH
X-ORIGINAL-URL:https://aau.org
X-WR-CALDESC:Events for AAU
REFRESH-INTERVAL;VALUE=DURATION:PT1H
X-Robots-Tag:noindex
X-PUBLISHED-TTL:PT1H
BEGIN:VTIMEZONE
TZID:UTC
BEGIN:STANDARD
TZOFFSETFROM:+0000
TZOFFSETTO:+0000
TZNAME:UTC
DTSTART:20250101T000000
END:STANDARD
END:VTIMEZONE
BEGIN:VEVENT
DTSTART;TZID=UTC:20260127T080000
DTEND;TZID=UTC:20260129T170000
DTSTAMP:20260420T115248
CREATED:20251203T092310Z
LAST-MODIFIED:20251203T092310Z
UID:6976-1769500800-1769706000@aau.org
SUMMARY:2nd Edition of the Positioning Your University for Global Visibility Workshop
DESCRIPTION:Date: 27th – 29th January 2026 \n \nVenue:  Lusaka\, Zambia\n\n\nRegistration fee: US$700 per person for participants from AAU member institutions and US$800 per person for those from non-AAU member institutions.\n\nTo confirm your participation\, kindly register by 19th December 2025 via this link https://indico.aau.org/event/12/
URL:https://aau.org/event/2nd-edition-of-the-positioning-your-university-for-global-visibility-workshop/
LOCATION:Lusaka\, Zambia\, Zambia
CATEGORIES:Workshop
ATTACH;FMTTYPE=image/jpeg:https://aau.org/wp-content/uploads/2025/12/POSITIONING-YOUR-UNIVERSITY-FOR-GLOBAL-VISIBILITY-2.0-ORIG.jpg
END:VEVENT
END:VCALENDAR